BEGIN:VCALENDAR
VERSION:2.0
PRODID:-//Friends of Harrowgate - ECPv6.15.20//NONSGML v1.0//EN
CALSCALE:GREGORIAN
METHOD:PUBLISH
X-WR-CALNAME:Friends of Harrowgate
X-ORIGINAL-URL:https://harrowgatepark.com
X-WR-CALDESC:Events for Friends of Harrowgate
REFRESH-INTERVAL;VALUE=DURATION:PT1H
X-Robots-Tag:noindex
X-PUBLISHED-TTL:PT1H
BEGIN:VTIMEZONE
TZID:America/New_York
BEGIN:DAYLIGHT
TZOFFSETFROM:-0500
TZOFFSETTO:-0400
TZNAME:EDT
DTSTART:20240310T070000
END:DAYLIGHT
BEGIN:STANDARD
TZOFFSETFROM:-0400
TZOFFSETTO:-0500
TZNAME:EST
DTSTART:20241103T060000
END:STANDARD
BEGIN:DAYLIGHT
TZOFFSETFROM:-0500
TZOFFSETTO:-0400
TZNAME:EDT
DTSTART:20250309T070000
END:DAYLIGHT
BEGIN:STANDARD
TZOFFSETFROM:-0400
TZOFFSETTO:-0500
TZNAME:EST
DTSTART:20251102T060000
END:STANDARD
BEGIN:DAYLIGHT
TZOFFSETFROM:-0500
TZOFFSETTO:-0400
TZNAME:EDT
DTSTART:20260308T070000
END:DAYLIGHT
BEGIN:STANDARD
TZOFFSETFROM:-0400
TZOFFSETTO:-0500
TZNAME:EST
DTSTART:20261101T060000
END:STANDARD
BEGIN:DAYLIGHT
TZOFFSETFROM:-0500
TZOFFSETTO:-0400
TZNAME:EDT
DTSTART:20270314T070000
END:DAYLIGHT
BEGIN:STANDARD
TZOFFSETFROM:-0400
TZOFFSETTO:-0500
TZNAME:EST
DTSTART:20271107T060000
END:STANDARD
END:VTIMEZONE
BEGIN:VEVENT
DTSTART;TZID=America/New_York:20250619T120000
DTEND;TZID=America/New_York:20250619T150000
DTSTAMP:20260421T014958
CREATED:20250318T164753Z
LAST-MODIFIED:20260410T194428Z
UID:770-1750334400-1750345200@harrowgatepark.com
SUMMARY:Juneteenth Paint Day Celebration
DESCRIPTION:
URL:https://harrowgatepark.com/event/juneteenth-paint-day-celebration/
CATEGORIES:Events,Past Events
ATTACH;FMTTYPE=image/png:https://harrowgatepark.com/wp-content/uploads/2024/04/Harrowgate-Logo.png
END:VEVENT
BEGIN:VEVENT
DTSTART;TZID=America/New_York:20250621T120000
DTEND;TZID=America/New_York:20250621T150000
DTSTAMP:20260421T014958
CREATED:20250318T164617Z
LAST-MODIFIED:20260410T194448Z
UID:769-1750507200-1750518000@harrowgatepark.com
SUMMARY:Summer Festival
DESCRIPTION:
URL:https://harrowgatepark.com/event/summer-festival/
CATEGORIES:Events,Past Events
ATTACH;FMTTYPE=image/png:https://harrowgatepark.com/wp-content/uploads/2024/04/Harrowgate-Logo.png
END:VEVENT
BEGIN:VEVENT
DTSTART;TZID=America/New_York:20251011T120000
DTEND;TZID=America/New_York:20251011T150000
DTSTAMP:20260421T014958
CREATED:20250912T134016Z
LAST-MODIFIED:20260410T194456Z
UID:1006-1760184000-1760194800@harrowgatepark.com
SUMMARY:Fall Festival
DESCRIPTION:
URL:https://harrowgatepark.com/event/fall-festival/
CATEGORIES:Events,Past Events
ATTACH;FMTTYPE=image/jpeg:https://harrowgatepark.com/wp-content/uploads/2025/09/Harrowgate-Fall-Festival.jpeg
END:VEVENT
BEGIN:VEVENT
DTSTART;TZID=America/New_York:20251013T170000
DTEND;TZID=America/New_York:20251013T200000
DTSTAMP:20260421T014958
CREATED:20250912T134106Z
LAST-MODIFIED:20260410T194502Z
UID:1007-1760374800-1760385600@harrowgatepark.com
SUMMARY:Movie Night - "Wicked"
DESCRIPTION:
URL:https://harrowgatepark.com/event/movie-night-wicked/
CATEGORIES:Events,Past Events
ATTACH;FMTTYPE=image/jpeg:https://harrowgatepark.com/wp-content/uploads/2025/10/Friends-of-Harrowgate-Park-Movie-Night-2025.jpg
END:VEVENT
BEGIN:VEVENT
DTSTART;TZID=America/New_York:20251115T100000
DTEND;TZID=America/New_York:20251115T120000
DTSTAMP:20260421T014958
CREATED:20250912T134137Z
LAST-MODIFIED:20260410T194511Z
UID:1008-1763200800-1763208000@harrowgatepark.com
SUMMARY:Love Your Park
DESCRIPTION:
URL:https://harrowgatepark.com/event/love-your-park/
CATEGORIES:Events,Past Events
END:VEVENT
BEGIN:VEVENT
DTSTART;TZID=America/New_York:20251212T190000
DTEND;TZID=America/New_York:20251212T210000
DTSTAMP:20260421T014958
CREATED:20250912T134213Z
LAST-MODIFIED:20260410T194521Z
UID:1009-1765566000-1765573200@harrowgatepark.com
SUMMARY:Tree Lighting
DESCRIPTION:
URL:https://harrowgatepark.com/event/tree-lighting/
CATEGORIES:Events,Past Events
END:VEVENT
BEGIN:VEVENT
DTSTART;TZID=America/New_York:20251213T120000
DTEND;TZID=America/New_York:20251213T150000
DTSTAMP:20260421T014958
CREATED:20250912T134254Z
LAST-MODIFIED:20260410T194303Z
UID:1010-1765627200-1765638000@harrowgatepark.com
SUMMARY:Winter Festival
DESCRIPTION:
URL:https://harrowgatepark.com/event/winter-festival/
CATEGORIES:Events,Past Events
END:VEVENT
BEGIN:VEVENT
DTSTART;TZID=America/New_York:20260413T183000
DTEND;TZID=America/New_York:20260413T203000
DTSTAMP:20260421T014958
CREATED:20260410T191447Z
LAST-MODIFIED:20260410T192529Z
UID:1038-1776105000-1776112200@harrowgatepark.com
SUMMARY:Harrowgate Bell Unveiling for the 250th
DESCRIPTION:
URL:https://harrowgatepark.com/event/harrowgate-bell-unveiling-for-the-250th/
CATEGORIES:Events
END:VEVENT
BEGIN:VEVENT
DTSTART;TZID=America/New_York:20260503T090000
DTEND;TZID=America/New_York:20260503T110000
DTSTAMP:20260421T014958
CREATED:20260410T191541Z
LAST-MODIFIED:20260419T135122Z
UID:1040-1777798800-1777806000@harrowgatepark.com
SUMMARY:Community Meeting & Tree Planting
DESCRIPTION:
URL:https://harrowgatepark.com/event/community-meeting-tree-planting/
CATEGORIES:Events
ATTACH;FMTTYPE=image/png:https://harrowgatepark.com/wp-content/uploads/2026/04/harrowgate-may3-treeplanting.png
END:VEVENT
BEGIN:VEVENT
DTSTART;TZID=America/New_York:20260509T100000
DTEND;TZID=America/New_York:20260509T120000
DTSTAMP:20260421T014958
CREATED:20260410T191740Z
LAST-MODIFIED:20260410T191740Z
UID:1042-1778320800-1778328000@harrowgatepark.com
SUMMARY:Love Your Park
DESCRIPTION:
URL:https://harrowgatepark.com/event/love-your-park-2/
CATEGORIES:Events
END:VEVENT
BEGIN:VEVENT
DTSTART;VALUE=DATE:20260619
DTEND;VALUE=DATE:20260620
DTSTAMP:20260421T014958
CREATED:20260410T191824Z
LAST-MODIFIED:20260410T191824Z
UID:1044-1781827200-1781913599@harrowgatepark.com
SUMMARY:Juneteenth Story Walk
DESCRIPTION:
URL:https://harrowgatepark.com/event/juneteenth-story-walk/
CATEGORIES:Events
END:VEVENT
BEGIN:VEVENT
DTSTART;TZID=America/New_York:20260627T120000
DTEND;TZID=America/New_York:20260627T160000
DTSTAMP:20260421T014958
CREATED:20260410T192043Z
LAST-MODIFIED:20260410T192043Z
UID:1046-1782561600-1782576000@harrowgatepark.com
SUMMARY:Harrowgate Summer Festival - Celebrating America's 250th
DESCRIPTION:
URL:https://harrowgatepark.com/event/harrowgate-summer-festival-celebrating-americas-250th/
CATEGORIES:Events
END:VEVENT
END:VCALENDAR